BEGIN:VCALENDAR
VERSION:2.0
PRODID:-//kesselsdorf.info - ECPv6.15.11//NONSGML v1.0//EN
CALSCALE:GREGORIAN
METHOD:PUBLISH
X-ORIGINAL-URL:https://kesselsdorf.info
X-WR-CALDESC:Veranstaltungen für kesselsdorf.info
REFRESH-INTERVAL;VALUE=DURATION:PT1H
X-Robots-Tag:noindex
X-PUBLISHED-TTL:PT1H
BEGIN:VTIMEZONE
TZID:Europe/Berlin
BEGIN:DAYLIGHT
TZOFFSETFROM:+0100
TZOFFSETTO:+0200
TZNAME:CEST
DTSTART:20230326T010000
END:DAYLIGHT
BEGIN:STANDARD
TZOFFSETFROM:+0200
TZOFFSETTO:+0100
TZNAME:CET
DTSTART:20231029T010000
END:STANDARD
BEGIN:DAYLIGHT
TZOFFSETFROM:+0100
TZOFFSETTO:+0200
TZNAME:CEST
DTSTART:20240331T010000
END:DAYLIGHT
BEGIN:STANDARD
TZOFFSETFROM:+0200
TZOFFSETTO:+0100
TZNAME:CET
DTSTART:20241027T010000
END:STANDARD
BEGIN:DAYLIGHT
TZOFFSETFROM:+0100
TZOFFSETTO:+0200
TZNAME:CEST
DTSTART:20250330T010000
END:DAYLIGHT
BEGIN:STANDARD
TZOFFSETFROM:+0200
TZOFFSETTO:+0100
TZNAME:CET
DTSTART:20251026T010000
END:STANDARD
BEGIN:DAYLIGHT
TZOFFSETFROM:+0100
TZOFFSETTO:+0200
TZNAME:CEST
DTSTART:20260329T010000
END:DAYLIGHT
BEGIN:STANDARD
TZOFFSETFROM:+0200
TZOFFSETTO:+0100
TZNAME:CET
DTSTART:20261025T010000
END:STANDARD
END:VTIMEZONE
BEGIN:VEVENT
DTSTART;TZID=Europe/Berlin:20251105T150000
DTEND;TZID=Europe/Berlin:20251105T170000
DTSTAMP:20260425T173318
CREATED:20251008T221338Z
LAST-MODIFIED:20251008T221339Z
UID:1113-1762354800-1762362000@kesselsdorf.info
SUMMARY:Kreta - mehr als nur Ouzo und Oliven
DESCRIPTION:Ein griechischer Nachmittag im Dorfgemeinschaftshaus Kesselsdorf.
URL:https://kesselsdorf.info/event/kreta-mehr-als-nur-ouzo-und-oliven/
LOCATION:Dorfgemeinschaftshaus Kesselsdorf\, Schulstraße 2\, Kesselsdorf\, Sachsen\, 01723\, Deutschland
ATTACH;FMTTYPE=image/jpeg:https://kesselsdorf.info/wp-content/uploads/2025/10/IMG-20251009-WA0001-e1759961594868.jpg
END:VEVENT
BEGIN:VEVENT
DTSTART;TZID=Europe/Berlin:20251101T180000
DTEND;TZID=Europe/Berlin:20251102T013000
DTSTAMP:20260425T173318
CREATED:20251008T213618Z
LAST-MODIFIED:20251029T172735Z
UID:1110-1762020000-1762047000@kesselsdorf.info
SUMMARY:Halloween Party
DESCRIPTION:Kindergruseln 18 – 21 Uhr \n\n\n\nHalloween-Party ab 21 Uhr
URL:https://kesselsdorf.info/event/halloween-party/
LOCATION:Jugendclub Kesselsdorf – KeDoJu\, Sachsenallee 5a\, Kesselsdorf\, Sachsen\, 01723\, Deutschland
ATTACH;FMTTYPE=image/jpeg:https://kesselsdorf.info/wp-content/uploads/2025/10/IMG-20251008-WA0002.jpg
END:VEVENT
BEGIN:VEVENT
DTSTART;TZID=Europe/Berlin:20251031T170000
DTEND;TZID=Europe/Berlin:20251031T200000
DTSTAMP:20260425T173318
CREATED:20251029T162254Z
LAST-MODIFIED:20251029T203711Z
UID:1131-1761930000-1761940800@kesselsdorf.info
SUMMARY:Gruselscheune 2025
DESCRIPTION:Auch 2025 öffnet wieder die Gruselscheune in Kesselsdorf.  \n\n\n\nFreut Euch auf ein unvergessliches Halloween-Erlebnis.
URL:https://kesselsdorf.info/event/gruselscheune-2025/
LOCATION:Gruselscheune\, Christian-Klengel-Str. 7\, Kesselsdorf\, Sachsen\, 01723\, Deutschland
ATTACH;FMTTYPE=image/png:https://kesselsdorf.info/wp-content/uploads/2025/10/image0.png
END:VEVENT
BEGIN:VEVENT
DTSTART;TZID=Europe/Berlin:20251019T140000
DTEND;TZID=Europe/Berlin:20251019T160000
DTSTAMP:20260425T173318
CREATED:20251008T211746Z
LAST-MODIFIED:20251008T212759Z
UID:1099-1760882400-1760889600@kesselsdorf.info
SUMMARY:Offene Heimatstube
DESCRIPTION:Hallo Herbst! \n\n\n\nSchon mal ans Jahresende denken… \n\n\n\nKaffee\, Kuchen sowie die neuen Advents- und Jahreskalender 2026 von Steffen Gröbner.
URL:https://kesselsdorf.info/event/offene-heimatstube/
LOCATION:Dorfgemeinschaftshaus Kesselsdorf\, Schulstraße 2\, Kesselsdorf\, Sachsen\, 01723\, Deutschland
ATTACH;FMTTYPE=image/jpeg:https://kesselsdorf.info/wp-content/uploads/2025/10/IMG-20251008-WA00011.jpg
ORGANIZER;CN="Heimatkreis":MAILTO:info@heimatkreis-kesselsdorf.de
END:VEVENT
BEGIN:VEVENT
DTSTART;TZID=Europe/Berlin:20250315T183000
DTEND;TZID=Europe/Berlin:20250316T020000
DTSTAMP:20260425T173318
CREATED:20241125T175543Z
LAST-MODIFIED:20241128T202103Z
UID:983-1742063400-1742090400@kesselsdorf.info
SUMMARY:Fasching 2025
DESCRIPTION:Fasching 2025 \n\n\n\nBambule in der Schule! Feiert mit im Grumbacher Hof! Wir freuen uns auf Euch! \n\n\n\nP16 (mit Muttizettel) // Einlass ab 18.30 Uhr // Beginn 19.30 Uhr // Ende gegen 2.00 Uhr // Mit DJ Robert Drechsler
URL:https://kesselsdorf.info/event/fasching-2025-4/
LOCATION:Grumbacher Hof\, Tharandter Str. 1\, Grumbach\, Sachsen\, 01723\, Deutschland
ATTACH;FMTTYPE=image/jpeg:https://kesselsdorf.info/wp-content/uploads/2024/10/fasching-2025-kesselsdorf.jpg
END:VEVENT
BEGIN:VEVENT
DTSTART;TZID=Europe/Berlin:20250314T183000
DTEND;TZID=Europe/Berlin:20250315T020000
DTSTAMP:20260425T173318
CREATED:20241128T195809Z
LAST-MODIFIED:20241128T201800Z
UID:1002-1741977000-1742004000@kesselsdorf.info
SUMMARY:Fasching 2025 - Mädelsabend
DESCRIPTION:Fasching 2025 – Mädelsabend mit Special Guest \n\n\n\nBambule in der Schule! Feiert mit im Grumbacher Hof! Wir freuen uns auf Euch! \n\n\n\nP16 (mit Muttizettel) // Einlass ab 18.30 Uhr // Beginn 19.30 Uhr // Ende gegen 2.00 Uhr // Mit DJ Robert Drechsler
URL:https://kesselsdorf.info/event/fasching-2025-maedelsabend/
LOCATION:Grumbacher Hof\, Tharandter Str. 1\, Grumbach\, Sachsen\, 01723\, Deutschland
ATTACH;FMTTYPE=image/jpeg:https://kesselsdorf.info/wp-content/uploads/2024/10/fasching-2025-kesselsdorf.jpg
END:VEVENT
BEGIN:VEVENT
DTSTART;TZID=Europe/Berlin:20250308T183000
DTEND;TZID=Europe/Berlin:20250309T020000
DTSTAMP:20260425T173318
CREATED:20241125T175016Z
LAST-MODIFIED:20241128T201642Z
UID:979-1741458600-1741485600@kesselsdorf.info
SUMMARY:Fasching 2025
DESCRIPTION:Fasching 2025 \n\n\n\nBambule in der Schule! Feiert mit im Grumbacher Hof! Wir freuen uns auf Euch! \n\n\n\nP16 (mit Muttizettel) // Einlass ab 18.30 Uhr // Beginn 19.30 Uhr // Ende gegen 2.00 Uhr // Mit DJ Scheini
URL:https://kesselsdorf.info/event/fasching-2025-3/
LOCATION:Grumbacher Hof\, Tharandter Str. 1\, Grumbach\, Sachsen\, 01723\, Deutschland
ATTACH;FMTTYPE=image/jpeg:https://kesselsdorf.info/wp-content/uploads/2024/10/fasching-2025-kesselsdorf.jpg
END:VEVENT
BEGIN:VEVENT
DTSTART;TZID=Europe/Berlin:20250304T150000
DTEND;TZID=Europe/Berlin:20250304T190000
DTSTAMP:20260425T173318
CREATED:20241125T180134Z
LAST-MODIFIED:20241128T201503Z
UID:989-1741100400-1741114800@kesselsdorf.info
SUMMARY:Fasching 2025 - Kinderfasching
DESCRIPTION:Fasching 2025 – Kinderfasching \n\n\n\nBambule in der Schule! Wir feiern Fasching mit den Kleinen! \n\n\n\nBeginn 15.00 Uhr // Ende gegen 19.00 Uhr // Mit DJ Falk
URL:https://kesselsdorf.info/event/fasching-2025-kinderfasching/
LOCATION:Grumbacher Hof\, Tharandter Str. 1\, Grumbach\, Sachsen\, 01723\, Deutschland
ATTACH;FMTTYPE=image/jpeg:https://kesselsdorf.info/wp-content/uploads/2024/10/fasching-2025-kesselsdorf.jpg
END:VEVENT
BEGIN:VEVENT
DTSTART;TZID=Europe/Berlin:20250301T183000
DTEND;TZID=Europe/Berlin:20250302T020000
DTSTAMP:20260425T173318
CREATED:20241125T161339Z
LAST-MODIFIED:20241128T201407Z
UID:975-1740853800-1740880800@kesselsdorf.info
SUMMARY:Fasching 2025
DESCRIPTION:Fasching 2025 \n\n\n\nBambule in der Schule! Feiert mit im Grumbacher Hof! Wir freuen uns auf Euch! \n\n\n\nP16 (mit Muttizettel) // Einlass ab 18.30 Uhr // Beginn 19.30 Uhr // Ende gegen 2.00 Uhr // Mit DJ FOX
URL:https://kesselsdorf.info/event/fasching-2025-2/
LOCATION:Grumbacher Hof\, Tharandter Str. 1\, Grumbach\, Sachsen\, 01723\, Deutschland
ATTACH;FMTTYPE=image/jpeg:https://kesselsdorf.info/wp-content/uploads/2024/10/fasching-2025-kesselsdorf.jpg
END:VEVENT
BEGIN:VEVENT
DTSTART;TZID=Europe/Berlin:20250222T183000
DTEND;TZID=Europe/Berlin:20250223T020000
DTSTAMP:20260425T173318
CREATED:20241128T194610Z
LAST-MODIFIED:20241204T194919Z
UID:995-1740249000-1740276000@kesselsdorf.info
SUMMARY:Fasching 2025 - Schlagerfasching
DESCRIPTION:+++ NEU +++ Fasching 2025 – Schlagerfasching mit Anthony Weihs +++ NEU +++ \n\n\n\nBambule in der Schule! Feiert mit im Grumbacher Hof! Wir freuen uns auf Euch! \n\n\n\nP16 (mit Muttizettel) // Einlass ab 18.30 Uhr // Beginn 19.30 Uhr // Ende gegen 2.00 Uhr // Mit DJ Franz
URL:https://kesselsdorf.info/event/fasching-2025-schlagerfasching/
LOCATION:Grumbacher Hof\, Tharandter Str. 1\, Grumbach\, Sachsen\, 01723\, Deutschland
ATTACH;FMTTYPE=image/jpeg:https://kesselsdorf.info/wp-content/uploads/2024/10/fasching-2025-kesselsdorf.jpg
END:VEVENT
BEGIN:VEVENT
DTSTART;TZID=Europe/Berlin:20250216T150000
DTEND;TZID=Europe/Berlin:20250216T190000
DTSTAMP:20260425T173318
CREATED:20241027T140625Z
LAST-MODIFIED:20241128T201038Z
UID:911-1739718000-1739732400@kesselsdorf.info
SUMMARY:Fasching 2025 - Oldie-Fasching Ü40
DESCRIPTION:Fasching 2025 – Oldie-Fasching Ü40 \n\n\n\nBambule in der Schule! Wir freuen uns auf Euch! \n\n\n\nBeginn 15.00 Uhr // Ende gegen 19.00 Uhr // Mit DJ Roger
URL:https://kesselsdorf.info/event/oldie-fasching-2025/
LOCATION:Grumbacher Hof\, Tharandter Str. 1\, Grumbach\, Sachsen\, 01723\, Deutschland
ATTACH;FMTTYPE=image/jpeg:https://kesselsdorf.info/wp-content/uploads/2024/10/fasching-2025-kesselsdorf.jpg
END:VEVENT
BEGIN:VEVENT
DTSTART;TZID=Europe/Berlin:20250215T183000
DTEND;TZID=Europe/Berlin:20250216T020000
DTSTAMP:20260425T173318
CREATED:20241027T135847Z
LAST-MODIFIED:20241128T200341Z
UID:907-1739644200-1739671200@kesselsdorf.info
SUMMARY:Fasching 2025 - Auftakt
DESCRIPTION:Fasching 2025 – Auftakt \n\n\n\nBambule in der Schule! Feiert mit im Grumbacher Hof! Wir freuen uns auf Euch! \n\n\n\nP16 (mit Muttizettel) // Einlass ab 18.30 Uhr // Beginn 19.30 Uhr // Ende gegen 2.00 Uhr // Mit DJ Fox
URL:https://kesselsdorf.info/event/fasching-2025/
LOCATION:Grumbacher Hof\, Tharandter Str. 1\, Grumbach\, Sachsen\, 01723\, Deutschland
ATTACH;FMTTYPE=image/jpeg:https://kesselsdorf.info/wp-content/uploads/2024/10/fasching-2025-kesselsdorf.jpg
END:VEVENT
BEGIN:VEVENT
DTSTART;TZID=Europe/Berlin:20241231T180000
DTEND;TZID=Europe/Berlin:20250101T020000
DTSTAMP:20260425T173318
CREATED:20241128T204011Z
LAST-MODIFIED:20241231T133242Z
UID:1033-1735668000-1735696800@kesselsdorf.info
SUMMARY:Silvesterparty
DESCRIPTION:Silvester-Party – Rutsch gemeinsam mit uns ins neue Jahr! \n\n\n\nFür euer leibliches Wohl ist gesorgt. Mit Feuerwerk. Karten ab sofort beim Schnittmädchen erhältlich.
URL:https://kesselsdorf.info/event/silvesterparty/
LOCATION:Schnittmädchen\, Grumbacher Straße 18\, Kesselsdorf\, 01723
ATTACH;FMTTYPE=image/jpeg:https://kesselsdorf.info/wp-content/uploads/2024/11/silvester-schnittmaedchen-2024-abendkasse.jpg
END:VEVENT
BEGIN:VEVENT
DTSTART;TZID=Europe/Berlin:20241130T153000
DTEND;TZID=Europe/Berlin:20241130T190000
DTSTAMP:20260425T173318
CREATED:20240919T071047Z
LAST-MODIFIED:20241101T102359Z
UID:846-1732980600-1732993200@kesselsdorf.info
SUMMARY:Lichterfest Kesselsdorf
DESCRIPTION:3. Kesselsdorfer Lichterfest \n\n\n\nDer Jugendclub Kesselsdorf lädt zum 3. Kesselsdorfer Lichterfest ein! \n\n\n\nTreffpunkt ist 15:30 Uhr an der Bushaltestelle (auf dem Markt Kesselsdorf). Jede Tasse wird kostenlos mit alkoholfreiem Punsch aufgefüllt.* Weihnachtsengel verteilen Stollenkonfekt.* \n\n\n\n15:30 Uhr: Kindergarten-Kinder singen Weihnachtslieder und tanzen \n\n\n\n15:45 Uhr: Der Weihnachtsmann hat für alle Kleinen etwas dabei \n\n\n\n16:00 Uhr: Der Posaunenchor bläst die Adventszeit ein \n\n\n\nEin cooler DJ mit Lichteffekten sorgt für die richtige Stimmung. \n\n\n\n* Nur solange der Vorrat reicht. \n\n\n\nFlyer Lichterfest 2024 herunterladen
URL:https://kesselsdorf.info/event/lichterfest-kesselsdorf/
LOCATION:Marktplatz Kesselsdorf\, Am Markt\, Kesselsdorf\, Sachsen\, 01723\, Deutschland
ATTACH;FMTTYPE=image/png:https://kesselsdorf.info/wp-content/uploads/2024/09/Kesselsdorfer-Lichterfest-2024.png
END:VEVENT
BEGIN:VEVENT
DTSTART;TZID=Europe/Berlin:20241130T140000
DTEND;TZID=Europe/Berlin:20241130T180000
DTSTAMP:20260425T173318
CREATED:20241128T202702Z
LAST-MODIFIED:20241128T203233Z
UID:1022-1732975200-1732989600@kesselsdorf.info
SUMMARY:Adventsgrillen
DESCRIPTION:Adventsgrillen \n\n\n\nHeißes vom Grill und hausgemachtes Süßes vom Blech // gemütliche Atmosphäre // Glühwein\, heiße Zitrone\, Kinderpunsch und heiße Schokolade mit und ohne Schuss
URL:https://kesselsdorf.info/event/adventsgrillen/
LOCATION:Schnittmädchen\, Grumbacher Straße 18\, Kesselsdorf\, 01723
ATTACH;FMTTYPE=image/jpeg:https://kesselsdorf.info/wp-content/uploads/2024/11/adventsgrillen-schnittmaedchen-2024.jpg
END:VEVENT
BEGIN:VEVENT
DTSTART;TZID=Europe/Berlin:20241116T000000
DTEND;TZID=Europe/Berlin:20241116T235959
DTSTAMP:20260425T173318
CREATED:20241025T085129Z
LAST-MODIFIED:20241115T150725Z
UID:887-1731715200-1731801599@kesselsdorf.info
SUMMARY:Karneval 2024 - Auftaktveranstaltung
DESCRIPTION:Grumbach ist nun im TV – heut zu Gast die Tages – Schau! \n\n\n\nP16 (nur mit Muttizettel) // Einlass 18:30 Uhr // Beginn 19:30 Uhr // Mit DJ Robert Drächsler
URL:https://kesselsdorf.info/event/karneval-2024-auftaktveranstaltung-2/
LOCATION:Grumbacher Hof\, Tharandter Str. 1\, Grumbach\, Sachsen\, 01723\, Deutschland
ATTACH;FMTTYPE=image/jpeg:https://kesselsdorf.info/wp-content/uploads/2024/10/karneval2024-e1729845365227.jpg
END:VEVENT
BEGIN:VEVENT
DTSTART;TZID=Europe/Berlin:20241115T180000
DTEND;TZID=Europe/Berlin:20241115T210000
DTSTAMP:20260425T173318
CREATED:20240919T075607Z
LAST-MODIFIED:20241115T150525Z
UID:863-1731693600-1731704400@kesselsdorf.info
SUMMARY:Lampionumzug Hort Oberhermsdorf
DESCRIPTION:Der Hort Oberhermsdorf veranstaltet den Lampionumzug von Oberhermsdorf nach Braunsdorf
URL:https://kesselsdorf.info/event/lampionumzug-hort-oberhermsdorf/
LOCATION:Grundschule Oberhermsdorf\, Hauptstraße 24\, Oberhermsdorf\, Sachsen\, 01723
ATTACH;FMTTYPE=image/png:https://kesselsdorf.info/wp-content/uploads/2024/09/martinsfest-gs-oberhermsdorf-2024.png
END:VEVENT
BEGIN:VEVENT
DTSTART;TZID=Europe/Berlin:20241111T104500
DTEND;TZID=Europe/Berlin:20241111T120000
DTSTAMP:20260425T173318
CREATED:20241025T083629Z
LAST-MODIFIED:20241102T133821Z
UID:879-1731321900-1731326400@kesselsdorf.info
SUMMARY:Karneval 2024 - Schlüsselübergabe
DESCRIPTION:Schlüsselübergabe am 11.11.2024 auf dem Markt in Wilsdruff
URL:https://kesselsdorf.info/event/karneval-2024-schluesseluebergabe/
LOCATION:Markt Wilsdruff
ATTACH;FMTTYPE=image/jpeg:https://kesselsdorf.info/wp-content/uploads/2024/10/karneval2024-e1729845365227.jpg
END:VEVENT
BEGIN:VEVENT
DTSTART;TZID=Europe/Berlin:20241109T183000
DTEND;TZID=Europe/Berlin:20241110T020000
DTSTAMP:20260425T173318
CREATED:20241025T084524Z
LAST-MODIFIED:20241102T133810Z
UID:885-1731177000-1731204000@kesselsdorf.info
SUMMARY:Karneval 2024 - Auftaktveranstaltung
DESCRIPTION:Grumbach ist nun im TV – heut zu Gast die Tages – Schau! \n\n\n\nP16 (nur mit Muttizettel) // Einlass 18:30 Uhr // Beginn 19:30 Uhr // Mit DJ FOX
URL:https://kesselsdorf.info/event/karneval-2024-auftaktveranstaltung/
LOCATION:Grumbacher Hof\, Tharandter Str. 1\, Grumbach\, Sachsen\, 01723\, Deutschland
ATTACH;FMTTYPE=image/jpeg:https://kesselsdorf.info/wp-content/uploads/2024/10/karneval2024-e1729845365227.jpg
END:VEVENT
BEGIN:VEVENT
DTSTART;TZID=Europe/Berlin:20241108T180000
DTEND;TZID=Europe/Berlin:20241108T200000
DTSTAMP:20260425T173318
CREATED:20240919T074940Z
LAST-MODIFIED:20241108T142330Z
UID:859-1731088800-1731096000@kesselsdorf.info
SUMMARY:Lampionumzug
DESCRIPTION:Der AWO-Kindergarten „Haltestelle Kinderherzen“ veranstaltet das Lampionfest vom Kindergarten zur FW Kesseldorf.
URL:https://kesselsdorf.info/event/lampionfest/
LOCATION:Kindergarten „Haltestelle Kinderherzen“\, Grumbacher Str. 7\, Wilsdruff\, Sachsen\, 01723\, Deutschland
ATTACH;FMTTYPE=image/png:https://kesselsdorf.info/wp-content/uploads/2024/09/lampion-fest-2024.png
END:VEVENT
BEGIN:VEVENT
DTSTART;TZID=Europe/Berlin:20241103T100000
DTEND;TZID=Europe/Berlin:20241103T160000
DTSTAMP:20260425T173318
CREATED:20241013T191752Z
LAST-MODIFIED:20241102T080242Z
UID:867-1730628000-1730649600@kesselsdorf.info
SUMMARY:2. Minigolf-Event
DESCRIPTION:Was erwartet Euch? \n\n\n\n14 ausgetüftelte Bahnen\, die mit Hilfe eines Unihockeyschlägers und -ball bespielt werden. \n\n\n\nWer darf teilnehmen? \n\n\n\nJeder\, der Lust und Laune hat und einen Unihockeyschläger halten kann. \n\n\n\nWas braucht Ihr? \n\n\n\nGeschick\, Treffsicherheit und Ehrgeiz. \n\n\n\n\n\n\n\nFlyer herunterladen
URL:https://kesselsdorf.info/event/2-minigolf-event/
LOCATION:Sporthalle Kesselsdorf\, Zur Alten Poststraße 19\, Kesselsdorf\, Sachsen\, 01723\, Deutschland
ATTACH;FMTTYPE=image/jpeg:https://kesselsdorf.info/wp-content/uploads/2024/10/minigolf-event-2024-scaled.jpg
END:VEVENT
BEGIN:VEVENT
DTSTART;TZID=Europe/Berlin:20241101T180000
DTEND;TZID=Europe/Berlin:20241101T230000
DTSTAMP:20260425T173318
CREATED:20241027T133350Z
LAST-MODIFIED:20241101T224921Z
UID:898-1730484000-1730502000@kesselsdorf.info
SUMMARY:Halloween-Party im Jugendclub Kesselsdorf 2024
DESCRIPTION:Halloween – Party \n\n\n\nUnsere Halloween-Party im Jugendclub findet am 01.11.2024 ab 18 Uhr statt. \n\n\n\nJeder der in einem Halloween-Outfit kommt\, bekommt ein Gratis Getränk und nimmt an unserem Gewinnspiel teil. \n\n\n\nAutor: Arian Hanitzsch
URL:https://kesselsdorf.info/event/halloween-party-im-jugendclub-kesselsdorf-2024/
LOCATION:Jugendclub Kesselsdorf – KeDoJu\, Sachsenallee 5a\, Kesselsdorf\, Sachsen\, 01723\, Deutschland
ATTACH;FMTTYPE=image/png:https://kesselsdorf.info/wp-content/uploads/2024/10/JC-Halloween-Poster-2024_Teaser.png
END:VEVENT
BEGIN:VEVENT
DTSTART;TZID=Europe/Berlin:20241031T170000
DTEND;TZID=Europe/Berlin:20241031T203000
DTSTAMP:20260425T173318
CREATED:20241029T203036Z
LAST-MODIFIED:20241029T211439Z
UID:915-1730394000-1730406600@kesselsdorf.info
SUMMARY:Gruselscheune Kesselsdorf 2024
DESCRIPTION:Auch dieses Jahr öffnet wieder die Gruselscheune in Kesselsdorf. Freuen Sie sich auf ein unvergessliches Halloween-Erlebnis.
URL:https://kesselsdorf.info/event/gruselscheune-kesselsdorf-2024/
LOCATION:Gruselscheune\, Christian-Klengel-Str. 7\, Kesselsdorf\, Sachsen\, 01723\, Deutschland
ATTACH;FMTTYPE=image/png:https://kesselsdorf.info/wp-content/uploads/2023/10/gruselscheune2023.png
END:VEVENT
BEGIN:VEVENT
DTSTART;TZID=Europe/Berlin:20241030T190000
DTEND;TZID=Europe/Berlin:20241030T210000
DTSTAMP:20260425T173318
CREATED:20240919T065437Z
LAST-MODIFIED:20240919T065459Z
UID:843-1730314800-1730322000@kesselsdorf.info
SUMMARY:Halloween-Lesung
DESCRIPTION:Sabine Lettau liest „Annekes Hus“.
URL:https://kesselsdorf.info/event/halloween-lesung/
LOCATION:Dorfgemeinschaftshaus Kesselsdorf\, Schulstraße 2\, Kesselsdorf\, Sachsen\, 01723\, Deutschland
ATTACH;FMTTYPE=image/jpeg:https://kesselsdorf.info/wp-content/uploads/2024/09/halloween-lesung-2024.jpg
ORGANIZER;CN="Heimatkreis":MAILTO:info@heimatkreis-kesselsdorf.de
END:VEVENT
BEGIN:VEVENT
DTSTART;TZID=Europe/Berlin:20240928T141500
DTEND;TZID=Europe/Berlin:20240928T180000
DTSTAMP:20260425T173318
CREATED:20240830T081137Z
LAST-MODIFIED:20240830T081344Z
UID:825-1727532900-1727546400@kesselsdorf.info
SUMMARY:Die Wildnis vor unserer Haustür - Zu Hause in der Natur
DESCRIPTION:Weitere Informationen und das Formular für die Anmeldung finden Sie auf der Webseite der Stiftung EDDI.
URL:https://kesselsdorf.info/event/die-wildnis-vor-unserer-haustuer-zu-hause-in-der-natur/
LOCATION:St. Katharinenkirche Kesselsdorf\, Christian-Klengel-Straße 19\, Kesselsdorf\, 01723
ATTACH;FMTTYPE=image/png:https://kesselsdorf.info/wp-content/uploads/2024/08/wildnis-vor-der-haustuer-2024.png
END:VEVENT
BEGIN:VEVENT
DTSTART;TZID=Europe/Berlin:20240920T170000
DTEND;TZID=Europe/Berlin:20240920T220000
DTSTAMP:20260425T173318
CREATED:20240919T072136Z
LAST-MODIFIED:20240919T073302Z
UID:848-1726851600-1726869600@kesselsdorf.info
SUMMARY:Eröffnungsfeier Jugendclub Kesselsdorf
DESCRIPTION:Neueröffnung unseres Jugendclubs in Kesselsdorf \n\n\n\nNach einer langen Zeit\, wo es still war um den Jugendclub Kesselsdorf\, ist jetzt damit Schluss… \n\n\n\nAm 01.06.2023 schlossen sich ein paar Jugendliche aus Kesselsdorf zusammen\, um wieder einen Jugendclub in Kesselsdorf zu haben. Seit dem ist sehr viel passiert\, dies konnten wir aber nur umsetzen durch unsere tollen und engagierten Mitglieder und Unterstützer. Nun kam uns aber die Frage: Was machen wir jetzt?? Nun ja\, es lag schnell auf der Hand\, wir müssen – um uns bekannter und interessanter zu machen – eine coole und außergewöhnliche Eröffnungsfeier veranstalten. \n\n\n\nKommt vorbei! Für das leibliche Wohl ist auch gesorgt! \n\n\n\nDer JC KeDoJu \n\n\n\nFlyer zur Eröffnungsfeier vom JC KeDoJu_herunterladen
URL:https://kesselsdorf.info/event/eroeffnungsfeier-jugendclub-kesselsdorf/
LOCATION:Jugendclub Kesselsdorf – KeDoJu\, Sachsenallee 5a\, Kesselsdorf\, Sachsen\, 01723\, Deutschland
ATTACH;FMTTYPE=image/png:https://kesselsdorf.info/wp-content/uploads/2024/09/Eroeffnungsfeier-JC-KeDoJu-2024.png
END:VEVENT
BEGIN:VEVENT
DTSTART;TZID=Europe/Berlin:20240911T143000
DTEND;TZID=Europe/Berlin:20240911T170000
DTSTAMP:20260425T173318
CREATED:20240830T080301Z
LAST-MODIFIED:20240830T080523Z
UID:821-1726065000-1726074000@kesselsdorf.info
SUMMARY:Kaffeeklatsch
DESCRIPTION:Menschen mit und ohne Behinderung sind herzlich willkommen.
URL:https://kesselsdorf.info/event/kaffeeklatsch-2/
LOCATION:Stiftung EDDI\, Steinbacher Weg 11\, Kesselsdorf\, 01723
ATTACH;FMTTYPE=image/jpeg:https://kesselsdorf.info/wp-content/uploads/2024/06/kaffeeklatsch_2024-scaled.jpeg
ORGANIZER;CN="Stiftung EDDI":MAILTO:info@stiftung-eddi.de
END:VEVENT
BEGIN:VEVENT
DTSTART;TZID=Europe/Berlin:20240908T150000
DTEND;TZID=Europe/Berlin:20240908T180000
DTSTAMP:20260425T173318
CREATED:20240828T080913Z
LAST-MODIFIED:20240906T102120Z
UID:797-1725807600-1725818400@kesselsdorf.info
SUMMARY:3. Kesselsdorfer Besenwirtschaft
DESCRIPTION:3. Kesselsdorfer Besenwirtschaft \n\n\n\nAusschank Weingut Jan Ullrich | Flammkuchen und Pizzabrötchen | Bastel- und Spielstation | Drachensteigen \n\n\n\nWir freuen uns auf Euch!
URL:https://kesselsdorf.info/event/3-kesselsdorfer-besenwirtschaft/
LOCATION:Wölbbrücke
ATTACH;FMTTYPE=image/jpeg:https://kesselsdorf.info/wp-content/uploads/2024/08/besenwirtschaft2024-stock-scaled.jpeg
ORGANIZER;CN="Heimatkreis":MAILTO:info@heimatkreis-kesselsdorf.de
END:VEVENT
BEGIN:VEVENT
DTSTART;TZID=Europe/Berlin:20240907T090000
DTEND;TZID=Europe/Berlin:20240907T180000
DTSTAMP:20260425T173318
CREATED:20240830T071158Z
LAST-MODIFIED:20240830T082000Z
UID:812-1725699600-1725732000@kesselsdorf.info
SUMMARY:Pilgern auf dem Jakobsweg „Der Weg ist das Ziel“
DESCRIPTION:Unter dem Motto „Der Weg ist das Ziel“ laden wir Menschen mit und ohne Behinderung ein\, gemeinsam unterwegs zu sein. \n\n\n\nBeginnend mit einer kleinen Meditation am “Haus der Stille“ in Grumbach machen wir uns auf den Weg nach Grillenburg im Tharandter Wald. Dabei spielt es keine Rolle\, ob und wann wir dort ankommen sondern vielmehr\, was wir unterwegs erleben. \n\n\n\nFür eine entspannte und flexible Rückfahrt nach Grumbach steht ein Fahrdienst auf Abruf bereit. \n\n\n\nWir freuen uns auf interessante Begegnungen. Anmeldung und Rückfragen bis 23.08.2024. \n\n\n\nWeitere Informationen und das Formular für die Anmeldung finden Sie auf der Webseite der Stiftung EDDI.
URL:https://kesselsdorf.info/event/pilgern-auf-dem-jakobsweg-der-weg-ist-das-ziel/
LOCATION:Haus der Stille\, Am oberen Bach 6\, Grumbach\, 01723
ATTACH;FMTTYPE=image/png:https://kesselsdorf.info/wp-content/uploads/2024/08/pilgern-jakobsweg-2024.png
ORGANIZER;CN="Stiftung EDDI":MAILTO:info@stiftung-eddi.de
END:VEVENT
BEGIN:VEVENT
DTSTART;TZID=Europe/Berlin:20240901T140000
DTEND;TZID=Europe/Berlin:20240901T153000
DTSTAMP:20260425T173318
CREATED:20240718T160401Z
LAST-MODIFIED:20240718T161313Z
UID:702-1725199200-1725204600@kesselsdorf.info
SUMMARY:Mörderische Schwestern
DESCRIPTION:Mit Evelyn Kühne\, Nora Gold & Sabine Lettau \n\n\n\nWir haben für Sie einen Meissen-Krimi\, geheimnisvolle Ereignisse in Radebeul und die Nebelmönche im Gepäck.
URL:https://kesselsdorf.info/event/moerderische-schwestern/
LOCATION:Sportplatz Kesselsdorf\, Zur Alten Poststraße 19\, Kesselsdorf\, Sachsen\, 01723\, Deutschland
ATTACH;FMTTYPE=image/png:https://kesselsdorf.info/wp-content/uploads/2024/07/moerderische-Schwestern-2024.png
END:VEVENT
END:VCALENDAR